BEGIN:VCALENDAR
VERSION:2.0
PRODID:-//Irvington Lodge Events - ECPv4.6.21//NONSGML v1.0//EN
CALSCALE:GREGORIAN
METHOD:PUBLISH
X-WR-CALNAME:Irvington Lodge Events
X-ORIGINAL-URL:http://www.irvingtonevents.com
X-WR-CALDESC:Events for Irvington Lodge Events
BEGIN:VEVENT
DTSTART;VALUE=DATE:20191110
DTEND;VALUE=DATE:20191111
DTSTAMP:20260423T064810
CREATED:20191029T193215Z
LAST-MODIFIED:20191029T193215Z
UID:1014-1573344000-1573430399@www.irvingtonevents.com
SUMMARY:Gamers
DESCRIPTION:
URL:http://www.irvingtonevents.com/event/gamers-2/
END:VEVENT
END:VCALENDAR