BEGIN:VCALENDAR
VERSION:2.0
PRODID:-//Irvington Lodge Events - ECPv4.6.21//NONSGML v1.0//EN
CALSCALE:GREGORIAN
METHOD:PUBLISH
X-WR-CALNAME:Irvington Lodge Events
X-ORIGINAL-URL:http://www.irvingtonevents.com
X-WR-CALDESC:Events for Irvington Lodge Events
BEGIN:VEVENT
DTSTART;TZID=America/New_York:20190205T190000
DTEND;TZID=America/New_York:20190205T201500
DTSTAMP:20260423T143257
CREATED:20181104T050957Z
LAST-MODIFIED:20181104T050957Z
UID:746-1549393200-1549397700@www.irvingtonevents.com
SUMMARY:Meditation class
DESCRIPTION:
URL:http://www.irvingtonevents.com/event/meditation-class-4/
END:VEVENT
END:VCALENDAR