BEGIN:VCALENDAR
VERSION:2.0
PRODID:-//Irvington Lodge Events - ECPv4.6.21//NONSGML v1.0//EN
CALSCALE:GREGORIAN
METHOD:PUBLISH
X-WR-CALNAME:Irvington Lodge Events
X-ORIGINAL-URL:http://www.irvingtonevents.com
X-WR-CALDESC:Events for Irvington Lodge Events
BEGIN:VEVENT
DTSTART;TZID=America/New_York:20190312T190000
DTEND;TZID=America/New_York:20190312T201500
DTSTAMP:20260423T161607
CREATED:20190301T045508Z
LAST-MODIFIED:20190301T045508Z
UID:854-1552417200-1552421700@www.irvingtonevents.com
SUMMARY:Meditation Class
DESCRIPTION:
URL:http://www.irvingtonevents.com/event/meditation-class-7/
END:VEVENT
END:VCALENDAR