BEGIN:VCALENDAR
VERSION:2.0
PRODID:-//Irvington Lodge Events - ECPv4.6.21//NONSGML v1.0//EN
CALSCALE:GREGORIAN
METHOD:PUBLISH
X-WR-CALNAME:Irvington Lodge Events
X-ORIGINAL-URL:http://www.irvingtonevents.com
X-WR-CALDESC:Events for Irvington Lodge Events
BEGIN:VEVENT
DTSTART;TZID=America/New_York:20190618T190000
DTEND;TZID=America/New_York:20190618T201500
DTSTAMP:20260423T093236
CREATED:20190610T180341Z
LAST-MODIFIED:20190610T180341Z
UID:924-1560884400-1560888900@www.irvingtonevents.com
SUMMARY:Meditation Classes
DESCRIPTION:Tuesdays 7-8:15p; $12 per class or $30 for 3.  See Happenings page. \n
URL:http://www.irvingtonevents.com/event/meditation-classes/
END:VEVENT
END:VCALENDAR