BEGIN:VCALENDAR
VERSION:2.0
PRODID:-//Irvington Lodge Events - ECPv4.6.21//NONSGML v1.0//EN
CALSCALE:GREGORIAN
METHOD:PUBLISH
X-WR-CALNAME:Irvington Lodge Events
X-ORIGINAL-URL:http://www.irvingtonevents.com
X-WR-CALDESC:Events for Irvington Lodge Events
BEGIN:VEVENT
DTSTART;TZID=America/New_York:20190202T193000
DTEND;TZID=America/New_York:20190202T223000
DTSTAMP:20260423T160450
CREATED:20190108T203458Z
LAST-MODIFIED:20190108T203723Z
UID:788-1549135800-1549146600@www.irvingtonevents.com
SUMMARY:Murder at the 1980s Prom
DESCRIPTION:7:30p – 10:30p.  Tickets available at eventbrite.com \n
URL:http://www.irvingtonevents.com/event/murder-at-the-1980s-prom/
END:VEVENT
END:VCALENDAR