BEGIN:VCALENDAR
VERSION:2.0
PRODID:-//Irvington Lodge Events - ECPv4.6.21//NONSGML v1.0//EN
CALSCALE:GREGORIAN
METHOD:PUBLISH
X-WR-CALNAME:Irvington Lodge Events
X-ORIGINAL-URL:http://www.irvingtonevents.com
X-WR-CALDESC:Events for Irvington Lodge Events
BEGIN:VEVENT
DTSTART;TZID=America/New_York:20181024T190000
DTEND;TZID=America/New_York:20181024T210000
DTSTAMP:20260423T231548
CREATED:20180927T194223Z
LAST-MODIFIED:20180927T194223Z
UID:695-1540407600-1540414800@www.irvingtonevents.com
SUMMARY:Popular Monsters play
DESCRIPTION:
URL:http://www.irvingtonevents.com/event/popular-monsters-play/
END:VEVENT
END:VCALENDAR