BEGIN:VCALENDAR
VERSION:2.0
PRODID:-//Irvington Lodge Events - ECPv4.6.21//NONSGML v1.0//EN
CALSCALE:GREGORIAN
METHOD:PUBLISH
X-WR-CALNAME:Irvington Lodge Events
X-ORIGINAL-URL:http://www.irvingtonevents.com
X-WR-CALDESC:Events for Irvington Lodge Events
BEGIN:VEVENT
DTSTART;TZID=America/New_York:20181018T183000
DTEND;TZID=America/New_York:20181018T210000
DTSTAMP:20260423T233928
CREATED:20180927T193550Z
LAST-MODIFIED:20180927T193550Z
UID:689-1539887400-1539896400@www.irvingtonevents.com
SUMMARY:Private Birthday party
DESCRIPTION:
URL:http://www.irvingtonevents.com/event/private-birthday-party/
END:VEVENT
END:VCALENDAR