BEGIN:VCALENDAR
VERSION:2.0
PRODID:-//Irvington Lodge Events - ECPv4.6.21//NONSGML v1.0//EN
CALSCALE:GREGORIAN
METHOD:PUBLISH
X-WR-CALNAME:Irvington Lodge Events
X-ORIGINAL-URL:http://www.irvingtonevents.com
X-WR-CALDESC:Events for Irvington Lodge Events
BEGIN:VEVENT
DTSTART;TZID=America/New_York:20181023T180000
DTEND;TZID=America/New_York:20181023T210000
DTSTAMP:20260423T215347
CREATED:20180927T193905Z
LAST-MODIFIED:20180927T193905Z
UID:693-1540317600-1540328400@www.irvingtonevents.com
SUMMARY:Progressive spiritual
DESCRIPTION:
URL:http://www.irvingtonevents.com/event/progressive-spiritual/
END:VEVENT
END:VCALENDAR