BEGIN:VCALENDAR
VERSION:2.0
PRODID:-//Irvington Lodge Events - ECPv4.6.21//NONSGML v1.0//EN
CALSCALE:GREGORIAN
METHOD:PUBLISH
X-WR-CALNAME:Irvington Lodge Events
X-ORIGINAL-URL:http://www.irvingtonevents.com
X-WR-CALDESC:Events for Irvington Lodge Events
BEGIN:VEVENT
DTSTART;VALUE=DATE:20190921
DTEND;VALUE=DATE:20190923
DTSTAMP:20260423T091957
CREATED:20190811T195815Z
LAST-MODIFIED:20190811T195815Z
UID:958-1569024000-1569196799@www.irvingtonevents.com
SUMMARY:Reserved
DESCRIPTION:
URL:http://www.irvingtonevents.com/event/reserved/
END:VEVENT
END:VCALENDAR