BEGIN:VCALENDAR
VERSION:2.0
PRODID:-//Irvington Lodge Events - ECPv4.6.21//NONSGML v1.0//EN
CALSCALE:GREGORIAN
METHOD:PUBLISH
X-WR-CALNAME:Irvington Lodge Events
X-ORIGINAL-URL:http://www.irvingtonevents.com
X-WR-CALDESC:Events for Irvington Lodge Events
BEGIN:VEVENT
DTSTART;TZID=America/New_York:20181124T100000
DTEND;TZID=America/New_York:20181124T150000
DTSTAMP:20260423T183822
CREATED:20181019T044018Z
LAST-MODIFIED:20181019T044018Z
UID:727-1543053600-1543071600@www.irvingtonevents.com
SUMMARY:Shop Small Market
DESCRIPTION:Hand selected vendors selling vintage\, handmade and unique items will join forces with kids activities\, snacks\, drinks\, music and much more! \n
URL:http://www.irvingtonevents.com/event/shop-small-market/
END:VEVENT
END:VCALENDAR