BEGIN:VCALENDAR
VERSION:2.0
PRODID:-//Irvington Lodge Events - ECPv4.6.21//NONSGML v1.0//EN
CALSCALE:GREGORIAN
METHOD:PUBLISH
X-WR-CALNAME:Irvington Lodge Events
X-ORIGINAL-URL:http://www.irvingtonevents.com
X-WR-CALDESC:Events for Irvington Lodge Events
BEGIN:VEVENT
DTSTART;VALUE=DATE:20191123
DTEND;VALUE=DATE:20191124
DTSTAMP:20260423T064713
CREATED:20191029T193242Z
LAST-MODIFIED:20191029T193242Z
UID:1016-1574467200-1574553599@www.irvingtonevents.com
SUMMARY:Wedding
DESCRIPTION:
URL:http://www.irvingtonevents.com/event/wedding-2/
END:VEVENT
END:VCALENDAR