BEGIN:VCALENDAR
VERSION:2.0
PRODID:-//Irvington Lodge Events - ECPv4.6.21//NONSGML v1.0//EN
CALSCALE:GREGORIAN
METHOD:PUBLISH
X-WR-CALNAME:Irvington Lodge Events
X-ORIGINAL-URL:http://www.irvingtonevents.com
X-WR-CALDESC:Events for Irvington Lodge Events
BEGIN:VEVENT
DTSTART;TZID=America/New_York:20190331T153000
DTEND;TZID=America/New_York:20190331T163000
DTSTAMP:20260423T121014
CREATED:20190301T050102Z
LAST-MODIFIED:20190301T050102Z
UID:868-1554046200-1554049800@www.irvingtonevents.com
SUMMARY:Yoga
DESCRIPTION:
URL:http://www.irvingtonevents.com/event/yoga-5/
END:VEVENT
END:VCALENDAR