BEGIN:VCALENDAR
VERSION:2.0
PRODID:-//Irvington Lodge Events - ECPv4.6.21//NONSGML v1.0//EN
CALSCALE:GREGORIAN
METHOD:PUBLISH
X-WR-CALNAME:Irvington Lodge Events
X-ORIGINAL-URL:http://www.irvingtonevents.com
X-WR-CALDESC:Events for Irvington Lodge Events
BEGIN:VEVENT
DTSTART;TZID=America/New_York:20181025T080000
DTEND;TZID=America/New_York:20181027T170000
DTSTAMP:20260424T011746
CREATED:20180816T000312Z
LAST-MODIFIED:20180816T000312Z
UID:450-1540454400-1540659600@www.irvingtonevents.com
SUMMARY:Halloween festival vendors
DESCRIPTION:
URL:http://www.irvingtonevents.com/event/halloween-festival-vendors/
END:VEVENT
BEGIN:VEVENT
DTSTART;TZID=America/New_York:20181027T080000
DTEND;TZID=America/New_York:20181027T170000
DTSTAMP:20260424T011746
CREATED:20180924T191059Z
LAST-MODIFIED:20180924T191059Z
UID:676-1540627200-1540659600@www.irvingtonevents.com
SUMMARY:Irvington Halloween Festival
DESCRIPTION:Event booth available inside Lodge for $20.00 each. \n
URL:http://www.irvingtonevents.com/event/irvington-halloween-festival/
END:VEVENT
BEGIN:VEVENT
DTSTART;TZID=America/New_York:20181027T190000
DTEND;TZID=America/New_York:20181027T210000
DTSTAMP:20260424T011746
CREATED:20180927T194438Z
LAST-MODIFIED:20180927T194438Z
UID:701-1540666800-1540674000@www.irvingtonevents.com
SUMMARY:Popular Monsters play
DESCRIPTION:
URL:http://www.irvingtonevents.com/event/popular-monsters-play-4/
END:VEVENT
END:VCALENDAR