BEGIN:VCALENDAR
VERSION:2.0
PRODID:-//Irvington Lodge Events - ECPv4.6.21//NONSGML v1.0//EN
CALSCALE:GREGORIAN
METHOD:PUBLISH
X-WR-CALNAME:Irvington Lodge Events
X-ORIGINAL-URL:http://www.irvingtonevents.com
X-WR-CALDESC:Events for Irvington Lodge Events
BEGIN:VEVENT
DTSTART;TZID=America/New_York:20181028T000000
DTEND;TZID=America/New_York:20181028T000000
DTSTAMP:20260423T233640
CREATED:20180927T194514Z
LAST-MODIFIED:20180927T194514Z
UID:703-1540684800-1540684800@www.irvingtonevents.com
SUMMARY:Popular Monsters play
DESCRIPTION:
URL:http://www.irvingtonevents.com/event/popular-monsters-play-5/
END:VEVENT
END:VCALENDAR