BEGIN:VCALENDAR
VERSION:2.0
PRODID:-//Irvington Lodge Events - ECPv4.6.21//NONSGML v1.0//EN
CALSCALE:GREGORIAN
METHOD:PUBLISH
X-WR-CALNAME:Irvington Lodge Events
X-ORIGINAL-URL:http://www.irvingtonevents.com
X-WR-CALDESC:Events for Irvington Lodge Events
BEGIN:VEVENT
DTSTART;TZID=America/New_York:20181103T170000
DTEND;TZID=America/New_York:20181103T210000
DTSTAMP:20260423T233913
CREATED:20180927T193214Z
LAST-MODIFIED:20180927T193214Z
UID:685-1541264400-1541278800@www.irvingtonevents.com
SUMMARY:Old School Reunion Party
DESCRIPTION:
URL:http://www.irvingtonevents.com/event/old-school-reunion-party/
END:VEVENT
END:VCALENDAR