BEGIN:VCALENDAR
VERSION:2.0
PRODID:-//Irvington Lodge Events - ECPv4.6.21//NONSGML v1.0//EN
CALSCALE:GREGORIAN
METHOD:PUBLISH
X-WR-CALNAME:Irvington Lodge Events
X-ORIGINAL-URL:http://www.irvingtonevents.com
X-WR-CALDESC:Events for Irvington Lodge Events
BEGIN:VEVENT
DTSTART;TZID=America/New_York:20190129T190000
DTEND;TZID=America/New_York:20190129T201500
DTSTAMP:20260423T194443
CREATED:20181104T050157Z
LAST-MODIFIED:20181104T050157Z
UID:735-1548788400-1548792900@www.irvingtonevents.com
SUMMARY:Meditation Class - free
DESCRIPTION:
URL:http://www.irvingtonevents.com/event/meditation-class-free/
END:VEVENT
END:VCALENDAR