BEGIN:VCALENDAR
VERSION:2.0
PRODID:-//Irvington Lodge Events - ECPv4.6.21//NONSGML v1.0//EN
CALSCALE:GREGORIAN
METHOD:PUBLISH
X-WR-CALNAME:Irvington Lodge Events
X-ORIGINAL-URL:http://www.irvingtonevents.com
X-WR-CALDESC:Events for Irvington Lodge Events
BEGIN:VEVENT
DTSTART;TZID=America/New_York:20190212T190000
DTEND;TZID=America/New_York:20190212T201500
DTSTAMP:20260423T194524
CREATED:20181104T051043Z
LAST-MODIFIED:20181104T051043Z
UID:748-1549998000-1550002500@www.irvingtonevents.com
SUMMARY:Meditation class
DESCRIPTION:
URL:http://www.irvingtonevents.com/event/meditation-class-5/
END:VEVENT
END:VCALENDAR