BEGIN:VCALENDAR
VERSION:2.0
PRODID:-//Irvington Lodge Events - ECPv4.6.21//NONSGML v1.0//EN
CALSCALE:GREGORIAN
METHOD:PUBLISH
X-WR-CALNAME:Irvington Lodge Events
X-ORIGINAL-URL:http://www.irvingtonevents.com
X-WR-CALDESC:Events for Irvington Lodge Events
BEGIN:VEVENT
DTSTART;TZID=America/New_York:20190219T190000
DTEND;TZID=America/New_York:20190219T201500
DTSTAMP:20260423T194609
CREATED:20181104T050718Z
LAST-MODIFIED:20181104T050718Z
UID:741-1550602800-1550607300@www.irvingtonevents.com
SUMMARY:Meditation class
DESCRIPTION:
URL:http://www.irvingtonevents.com/event/meditation-class-2/
END:VEVENT
END:VCALENDAR