BEGIN:VCALENDAR
VERSION:2.0
PRODID:-//Irvington Lodge Events - ECPv4.6.21//NONSGML v1.0//EN
CALSCALE:GREGORIAN
METHOD:PUBLISH
X-WR-CALNAME:Irvington Lodge Events
X-ORIGINAL-URL:http://www.irvingtonevents.com
X-WR-CALDESC:Events for Irvington Lodge Events
BEGIN:VEVENT
DTSTART;TZID=America/New_York:20190317T153000
DTEND;TZID=America/New_York:20190317T163000
DTSTAMP:20260423T182333
CREATED:20190301T045957Z
LAST-MODIFIED:20190301T045957Z
UID:864-1552836600-1552840200@www.irvingtonevents.com
SUMMARY:Yoga
DESCRIPTION:
URL:http://www.irvingtonevents.com/event/yoga-3/
END:VEVENT
BEGIN:VEVENT
DTSTART;TZID=America/New_York:20190317T173000
DTEND;TZID=America/New_York:20190317T200000
DTSTAMP:20260423T182333
CREATED:20190301T044702Z
LAST-MODIFIED:20190301T044702Z
UID:850-1552843800-1552852800@www.irvingtonevents.com
SUMMARY:Cast party
DESCRIPTION:
URL:http://www.irvingtonevents.com/event/cast-party/
END:VEVENT
END:VCALENDAR