BEGIN:VCALENDAR
VERSION:2.0
PRODID:-//Irvington Lodge Events - ECPv4.6.21//NONSGML v1.0//EN
CALSCALE:GREGORIAN
METHOD:PUBLISH
X-WR-CALNAME:Irvington Lodge Events
X-ORIGINAL-URL:http://www.irvingtonevents.com
X-WR-CALDESC:Events for Irvington Lodge Events
BEGIN:VEVENT
DTSTART;TZID=America/New_York:20190903T190000
DTEND;TZID=America/New_York:20190903T201500
DTSTAMP:20260423T095514
CREATED:20190821T142604Z
LAST-MODIFIED:20190821T142604Z
UID:977-1567537200-1567541700@www.irvingtonevents.com
SUMMARY:Meditation Class
DESCRIPTION:7-8:15p.  $12 per class or $30 for 3. \n
URL:http://www.irvingtonevents.com/event/meditation-class-21/
END:VEVENT
END:VCALENDAR