BEGIN:VCALENDAR
VERSION:2.0
PRODID:-//Irvington Lodge Events - ECPv4.6.21//NONSGML v1.0//EN
CALSCALE:GREGORIAN
METHOD:PUBLISH
X-WR-CALNAME:Irvington Lodge Events
X-ORIGINAL-URL:http://www.irvingtonevents.com
X-WR-CALDESC:Events for Irvington Lodge Events
BEGIN:VEVENT
DTSTART;VALUE=DATE:20190919
DTEND;VALUE=DATE:20190921
DTSTAMP:20260423T095335
CREATED:20190906T154711Z
LAST-MODIFIED:20190906T154711Z
UID:983-1568851200-1569023999@www.irvingtonevents.com
SUMMARY:Music/Book event
DESCRIPTION:
URL:http://www.irvingtonevents.com/event/music-book-event/
END:VEVENT
END:VCALENDAR