BEGIN:VCALENDAR
VERSION:2.0
PRODID:-//Irvington Lodge Events - ECPv4.6.21//NONSGML v1.0//EN
CALSCALE:GREGORIAN
METHOD:PUBLISH
X-WR-CALNAME:Irvington Lodge Events
X-ORIGINAL-URL:http://www.irvingtonevents.com
X-WR-CALDESC:Events for Irvington Lodge Events
BEGIN:VEVENT
DTSTART;VALUE=DATE:20191026
DTEND;VALUE=DATE:20191027
DTSTAMP:20260423T083320
CREATED:20190811T195947Z
LAST-MODIFIED:20190811T195947Z
UID:962-1572048000-1572134399@www.irvingtonevents.com
SUMMARY:Halloween Market at the Lodge
DESCRIPTION:
URL:http://www.irvingtonevents.com/event/halloween-market-at-the-lodge/
END:VEVENT
END:VCALENDAR