BEGIN:VCALENDAR
VERSION:2.0
PRODID:-//Irvington Lodge Events - ECPv4.6.21//NONSGML v1.0//EN
CALSCALE:GREGORIAN
METHOD:PUBLISH
X-WR-CALNAME:Irvington Lodge Events
X-ORIGINAL-URL:http://www.irvingtonevents.com
X-WR-CALDESC:Events for Irvington Lodge Events
BEGIN:VEVENT
DTSTART;VALUE=DATE:20191109
DTEND;VALUE=DATE:20191110
DTSTAMP:20260423T081043
CREATED:20190811T195524Z
LAST-MODIFIED:20190811T195524Z
UID:952-1573257600-1573343999@www.irvingtonevents.com
SUMMARY:Gamers
DESCRIPTION:
URL:http://www.irvingtonevents.com/event/gamers/
END:VEVENT
END:VCALENDAR